BEGIN:VCALENDAR
VERSION:2.0
PRODID:-//www.nccinwexford.org//NONSGML kigkonsult.se iCalcreator 2.39.1//
CALSCALE:GREGORIAN
METHOD:PUBLISH
UID:4190e9c5-8a2e-41b7-ac35-4c0dfa0f4eba
X-WR-CALNAME:www.nccinwexford.org
X-WR-CALDESC:www.nccinwexford.org
X-WR-TIMEZONE:America/Los_Angeles
X-LIC-LOCATION:America/Los_Angeles
BEGIN:VEVENT
UID:7842efdf-722f-469c-89de-d04e075fa0d8
DTSTAMP:20260419T144226Z
CLASS:PUBLIC
DTSTART;TZID=America/Los_Angeles:20251130T121500
DTEND;TZID=America/Los_Angeles:20251130T140000
LOCATION:New Community Church
SUMMARY:Newcomer Lunch
TRANSP:OPAQUE
BEGIN:VALARM
ACTION:DISPLAY
DESCRIPTION:Newcomer Lunch
TRIGGER:-PT15M
END:VALARM
END:VEVENT
END:VCALENDAR
